BEGIN:VCALENDAR
VERSION:2.0
PRODID:-//New Hartford Baptist Church - ECPv6.15.20//NONSGML v1.0//EN
CALSCALE:GREGORIAN
METHOD:PUBLISH
X-ORIGINAL-URL:https://nhbc.church
X-WR-CALDESC:Events for New Hartford Baptist Church
REFRESH-INTERVAL;VALUE=DURATION:PT1H
X-Robots-Tag:noindex
X-PUBLISHED-TTL:PT1H
BEGIN:VTIMEZONE
TZID:America/Chicago
BEGIN:DAYLIGHT
TZOFFSETFROM:-0600
TZOFFSETTO:-0500
TZNAME:CDT
DTSTART:20220313T080000
END:DAYLIGHT
BEGIN:STANDARD
TZOFFSETFROM:-0500
TZOFFSETTO:-0600
TZNAME:CST
DTSTART:20221106T070000
END:STANDARD
BEGIN:DAYLIGHT
TZOFFSETFROM:-0600
TZOFFSETTO:-0500
TZNAME:CDT
DTSTART:20230312T080000
END:DAYLIGHT
BEGIN:STANDARD
TZOFFSETFROM:-0500
TZOFFSETTO:-0600
TZNAME:CST
DTSTART:20231105T070000
END:STANDARD
BEGIN:DAYLIGHT
TZOFFSETFROM:-0600
TZOFFSETTO:-0500
TZNAME:CDT
DTSTART:20240310T080000
END:DAYLIGHT
BEGIN:STANDARD
TZOFFSETFROM:-0500
TZOFFSETTO:-0600
TZNAME:CST
DTSTART:20241103T070000
END:STANDARD
BEGIN:DAYLIGHT
TZOFFSETFROM:-0600
TZOFFSETTO:-0500
TZNAME:CDT
DTSTART:20250309T080000
END:DAYLIGHT
BEGIN:STANDARD
TZOFFSETFROM:-0500
TZOFFSETTO:-0600
TZNAME:CST
DTSTART:20251102T070000
END:STANDARD
END:VTIMEZONE
BEGIN:VEVENT
DTSTART;TZID=America/Chicago:20240323T190000
DTEND;TZID=America/Chicago:20240323T210000
DTSTAMP:20260421T051743
CREATED:20240127T203242Z
LAST-MODIFIED:20240222T232934Z
UID:10000024-1711220400-1711227600@nhbc.church
SUMMARY:Easter Egg Hunt in the Dark
DESCRIPTION:Join us for a fun evening. Hearing the gospel of how Jesus Christ shines the light in the darkness. Then we will have fun finding as many Easter eggs as we can.
URL:https://nhbc.church/event/easter-egg-hunt-in-the-dark/
LOCATION:New Hartford Baptist Church\, 26984 Pike 413\, New Hartford\, MO\, 63359\, United States
CATEGORIES:Public Events
ATTACH;FMTTYPE=image/png:https://nhbc.church/wp-content/uploads/2024/01/Easter-Egg-Hunt-in-the-dark.png
END:VEVENT
BEGIN:VEVENT
DTSTART;TZID=America/Chicago:20231027T173000
DTEND;TZID=America/Chicago:20231027T190000
DTSTAMP:20260421T051743
CREATED:20231007T220543Z
LAST-MODIFIED:20231007T220626Z
UID:10000016-1698427800-1698433200@nhbc.church
SUMMARY:Trick or Treat in the Park
DESCRIPTION:We will hand out bags of candy with Christian activity books and tracts to children that are trick or treating in the park.\nVolunteers to help are welcome! \nBowling Green City Park \nContact: Lynn or Penny \n 
URL:https://nhbc.church/event/trick-or-treat-in-the-park/
LOCATION:Bowling Green City Park\, West Adams\, Bowling Green\, Missouri\, 63334
CATEGORIES:Private Events
ATTACH;FMTTYPE=image/png:https://nhbc.church/wp-content/uploads/2023/10/Trick-or-Treat-In-the-Park-2023.png
END:VEVENT
END:VCALENDAR